BEGIN:VCALENDAR
PRODID:scnitm
VERSION:2.0
BEGIN:VTIMEZONE
TZID:my/AEST
BEGIN:STANDARD
DTSTART:19700101T010000
TZOFFSETFROM:+1000
TZOFFSETTO:+1000
END:STANDARD
END:VTIMEZONE
BEGIN:VTIMEZONE
TZID:my/AEDT
BEGIN:STANDARD
DTSTART:19700101T010000
TZOFFSETFROM:+1100
TZOFFSETTO:+1100
END:STANDARD
END:VTIMEZONE
BEGIN:VEVENT
UID:scnitm-3294106-1776759087-1
DTSTART;TZID=my/AEST:20250801T105500
SUMMARY:SMRI International Visitor Program - August 2025 Round - Applications now open
DESCRIPTION:See scnews item https://secure.maths.usyd.edu.au/s/scnitm/cmeister-SMRIInternationalVisitorP-001
END:VEVENT
END:VCALENDAR

